BEGIN:VCALENDAR
PRODID:-//198.252.99.130//NONSGML iCalcreator 2.6//
VERSION:2.0
BEGIN:VEVENT
UID:20260426T030343CEST-6104zDvPNJ@198.252.99.130
DTSTAMP:20260426T010343Z
CATEGORIES:Surgical Skills Training Centre Events
DESCRIPTION:
DTSTART:20230707T080000
DTEND:20230708T123000
LOCATION:Red Cross War Memorial Children's Hospital\, Klipfontein Road\, Ro
 ndebosch
SUMMARY:GESEA CERT1 CERTIFICATION FRIDAY 7 JULY 2023 @ 18h00 (TESTT1) and S
 ATURDAY 8 JULY 2023 @ 08h00 (CERT1) – CAPE TOWN
END:VEVENT
END:VCALENDAR
