BEGIN:VCALENDAR
PRODID:-//198.252.99.130//NONSGML iCalcreator 2.6//
VERSION:2.0
BEGIN:VEVENT
UID:20260426T012139CEST-2181r5PVhK@198.252.99.130
DTSTAMP:20260426T232139Z
CATEGORIES:Surgical Skills Training Centre Events
DESCRIPTION:
DTSTART:20231118T080000
DTEND:20231119T163000
LOCATION:Red Cross War Memorial Children's Hospital\, Klipfontein Road\, Ro
 ndebosch
SUMMARY:GESEA CERT1 Practical Training Workshop in Cape Town Saturday 18th 
 &#038\; Sunday 19th November 2023
END:VEVENT
END:VCALENDAR
