BEGIN:VCALENDAR
PRODID:-//198.252.99.130//NONSGML iCalcreator 2.6//
VERSION:2.0
BEGIN:VEVENT
UID:20260425T234204CEST-61034OUDhD@198.252.99.130
DTSTAMP:20260425T214204Z
CATEGORIES:Surgical Skills Training Centre Events
DESCRIPTION:
DTSTART:20230701T080000
DTEND:20230702T163000
LOCATION:Red Cross War Memorial Children's Hospital\, Klipfontein Road\, Ro
 ndebosch
SUMMARY:GESEA CERT1 Practical Training Workshop in Cape Town 1st &#038\; 2n
 d July 2023
END:VEVENT
END:VCALENDAR
