BEGIN:VCALENDAR
PRODID:-//198.252.99.130//NONSGML iCalcreator 2.6//
VERSION:2.0
BEGIN:VEVENT
UID:20260425T184319CEST-3412kE9Klw@198.252.99.130
DTSTAMP:20260425T164319Z
CATEGORIES:Surgical Skills Training Centre Events
DESCRIPTION:
DTSTART:20230701T080000
DTEND:20230702T163000
LOCATION:Red Cross War Memorial Children's Hospital\, Klipfontein Road\, Ro
 ndebosch
SUMMARY:GESEA CERT2 Practical Training Workshop 1 and 2 July 2023 (NOTE DAT
 E CHANGE)
END:VEVENT
END:VCALENDAR
