BEGIN:VCALENDAR
PRODID:-//198.252.99.130//NONSGML iCalcreator 2.6//
VERSION:2.0
BEGIN:VEVENT
UID:20260425T183528CEST-4610mLkugw@198.252.99.130
DTSTAMP:20260425T163528Z
CATEGORIES:Surgical Skills Training Centre Events
DESCRIPTION:
DTSTART:20231020T080000
DTEND:20231020T163000
LOCATION:Klipfontein Road\, Rondebosch
SUMMARY:INTRODUCTORY UPPER GIT ENDOSCOPY WORKSHOP &#8211\; Friday 20th Octo
 ber 2023
END:VEVENT
END:VCALENDAR
