BEGIN:VCALENDAR
PRODID:-//198.252.99.130//NONSGML iCalcreator 2.6//
VERSION:2.0
BEGIN:VEVENT
UID:20260425T185334CEST-2359FTahm8@198.252.99.130
DTSTAMP:20260425T165334Z
CATEGORIES:Surgical Skills Training Centre Events
DESCRIPTION:
DTSTART:20221119T080000
DTEND:20221120T163000
LOCATION:Klipfontein Road\, Rondebosch
SUMMARY:GESEA CERT1  &#038\; CERT2 Hybrid Practical Training Workshop in Ca
 pe Town 19th &#038\; 20th November 2022
END:VEVENT
END:VCALENDAR
