BEGIN:VCALENDAR
PRODID:-//198.252.99.130//NONSGML iCalcreator 2.6//
VERSION:2.0
BEGIN:VEVENT
UID:20260425T185504CEST-8353VrfTXo@198.252.99.130
DTSTAMP:20260425T165504Z
CATEGORIES:Surgical Skills Training Centre Events
DESCRIPTION:
DTSTART:20221015T080000
DTEND:20221016T163000
LOCATION:Klipfontein Road\, Rondebosch
SUMMARY:GESEA CERT2 Practical Training Workshop in Cape Town 15th &#038\; 1
 6th October 2022
END:VEVENT
END:VCALENDAR
