BEGIN:VCALENDAR
PRODID:-//198.252.99.130//NONSGML iCalcreator 2.6//
VERSION:2.0
BEGIN:VEVENT
UID:20260425T202252CEST-5166Hd4UOD@198.252.99.130
DTSTAMP:20260425T182252Z
CATEGORIES:Surgical Skills Training Centre Events
DESCRIPTION:
DTSTART:20220820T080000
DTEND:20220821T163000
LOCATION:Klipfontein Road\, Rondebosch
SUMMARY:GESEA CERT1 Practical Training Workshop in Cape Town 20th &#038\; 2
 1st August 2022
END:VEVENT
END:VCALENDAR
