BEGIN:VCALENDAR
PRODID:-//198.252.99.130//NONSGML iCalcreator 2.6//
VERSION:2.0
BEGIN:VEVENT
UID:20260425T233659CEST-3308tsHWnZ@198.252.99.130
DTSTAMP:20260425T213659Z
CATEGORIES:Surgical Skills Training Centre Events
DESCRIPTION:
DTSTART:20220827T080000
DTEND:20220827T140000
LOCATION:Klipfontein Road\, Rondebosch
SUMMARY:GESEA CERTIFICATION CERT 1 – CAPE TOWN on Saturday 27th August 20
 22
END:VEVENT
END:VCALENDAR
