BEGIN:VCALENDAR
PRODID:-//198.252.99.130//NONSGML iCalcreator 2.6//
VERSION:2.0
BEGIN:VEVENT
UID:20260425T234747CEST-4846NBkc8u@198.252.99.130
DTSTAMP:20260425T214747Z
CATEGORIES:Surgical Skills Training Centre Events
DESCRIPTION:
DTSTART:20220813T080000
DTEND:20220814T163000
LOCATION:Klipfontein Road\, Rondebosch
SUMMARY:GESEA CERT2 Practical Training Workshop in Cape Town 13th &#038\; 1
 4th August 2022
END:VEVENT
END:VCALENDAR
