BEGIN:VCALENDAR
PRODID:-//198.252.99.130//NONSGML iCalcreator 2.6//
VERSION:2.0
BEGIN:VEVENT
UID:20260426T025451CEST-1511nUmKuC@198.252.99.130
DTSTAMP:20260426T005451Z
CATEGORIES:Surgical Skills Training Centre Events
DESCRIPTION:
DTSTART:20220827T080000
DTEND:20220827T140000
LOCATION:Klipfontein Road\, Rondebosch
SUMMARY:GESEA CERT1 CERTIFICATION IN CAPE TOWN ON SATURDAY 27TH AUGUST 2022
END:VEVENT
END:VCALENDAR
