BEGIN:VCALENDAR
PRODID:-//198.252.99.130//NONSGML iCalcreator 2.6//
VERSION:2.0
BEGIN:VEVENT
UID:20260426T023806CEST-5059B7r71p@198.252.99.130
DTSTAMP:20260426T003806Z
CATEGORIES:Surgical Skills Training Centre Events
DESCRIPTION:
DTSTART:20220716T080000
DTEND:20220717T163000
LOCATION:Klipfontein Road\, Rondebosch
SUMMARY:GESEA CERT2 Practical Training Workshop in Cape Town 16th &#038\; 1
 7th July 2022
END:VEVENT
END:VCALENDAR
