BEGIN:VCALENDAR
PRODID:-//198.252.99.130//NONSGML iCalcreator 2.6//
VERSION:2.0
BEGIN:VEVENT
UID:20260425T214315CEST-3320MvvEIz@198.252.99.130
DTSTAMP:20260425T194315Z
CATEGORIES:Surgical Skills Training Centre Events
DESCRIPTION:
DTSTART:20220702T080000
DTEND:20220703T163000
LOCATION:Klipfontein Road\, Rondebosch
SUMMARY:GESEA CERT1 Practical Training Workshop in Cape Town 2nd &#038\; 3r
 d July 2022
END:VEVENT
END:VCALENDAR
