BEGIN:VCALENDAR
PRODID:-//198.252.99.130//NONSGML iCalcreator 2.6//
VERSION:2.0
BEGIN:VEVENT
UID:20260425T202142CEST-2670RbWX1G@198.252.99.130
DTSTAMP:20260425T182142Z
CATEGORIES:Surgical Skills Training Centre Events
DESCRIPTION:
DTSTART:20220128T120000
DTEND:20220128T180000
LOCATION:Klipfontein Road\, Rondebosch
SUMMARY:UCT Department of Obstetrics &#038\; Gynaecology Registrars
END:VEVENT
END:VCALENDAR
