BEGIN:VCALENDAR
PRODID:-//198.252.99.130//NONSGML iCalcreator 2.6//
VERSION:2.0
BEGIN:VEVENT
UID:20260425T232817CEST-7958Mv7MaX@198.252.99.130
DTSTAMP:20260425T212817Z
CATEGORIES:Surgical Skills Training Centre Events
DESCRIPTION:
DTSTART:20220228T080000
DTEND:20220228T163000
LOCATION:Klipfontein Road\, Rondebosch
SUMMARY:BASIC UPPER GIT ENDOSCOPY SHORT COURSE 2022 (1)
END:VEVENT
END:VCALENDAR
