BEGIN:VCALENDAR
PRODID:-//198.252.99.130//NONSGML iCalcreator 2.6//
VERSION:2.0
BEGIN:VEVENT
UID:20260425T200334CEST-2830O4sDUu@198.252.99.130
DTSTAMP:20260425T180334Z
CATEGORIES:Surgical Skills Training Centre Events
DESCRIPTION:
DTSTART:20210910T000000
DTEND:20210911T000000
LOCATION:
SUMMARY:The Biennial South African Urogynaecology Association Congress &#82
 11\; University of Pretoria
END:VEVENT
END:VCALENDAR
